BEGIN:VCALENDAR
VERSION:2.0
PRODID:-//Keep Louisiana Beautiful - ECPv6.15.20//NONSGML v1.0//EN
CALSCALE:GREGORIAN
METHOD:PUBLISH
X-WR-CALNAME:Keep Louisiana Beautiful
X-ORIGINAL-URL:https://keeplouisianabeautiful.org
X-WR-CALDESC:Events for Keep Louisiana Beautiful
REFRESH-INTERVAL;VALUE=DURATION:PT1H
X-Robots-Tag:noindex
X-PUBLISHED-TTL:PT1H
BEGIN:VTIMEZONE
TZID:America/Chicago
BEGIN:DAYLIGHT
TZOFFSETFROM:-0600
TZOFFSETTO:-0500
TZNAME:CDT
DTSTART:20170312T080000
END:DAYLIGHT
BEGIN:STANDARD
TZOFFSETFROM:-0500
TZOFFSETTO:-0600
TZNAME:CST
DTSTART:20171105T070000
END:STANDARD
BEGIN:DAYLIGHT
TZOFFSETFROM:-0600
TZOFFSETTO:-0500
TZNAME:CDT
DTSTART:20180311T080000
END:DAYLIGHT
BEGIN:STANDARD
TZOFFSETFROM:-0500
TZOFFSETTO:-0600
TZNAME:CST
DTSTART:20181104T070000
END:STANDARD
BEGIN:DAYLIGHT
TZOFFSETFROM:-0600
TZOFFSETTO:-0500
TZNAME:CDT
DTSTART:20190310T080000
END:DAYLIGHT
BEGIN:STANDARD
TZOFFSETFROM:-0500
TZOFFSETTO:-0600
TZNAME:CST
DTSTART:20191103T070000
END:STANDARD
BEGIN:DAYLIGHT
TZOFFSETFROM:-0600
TZOFFSETTO:-0500
TZNAME:CDT
DTSTART:20200308T080000
END:DAYLIGHT
BEGIN:STANDARD
TZOFFSETFROM:-0500
TZOFFSETTO:-0600
TZNAME:CST
DTSTART:20201101T070000
END:STANDARD
END:VTIMEZONE
BEGIN:VEVENT
DTSTART;TZID=America/Chicago:20190119T090000
DTEND;TZID=America/Chicago:20190119T150000
DTSTAMP:20260423T235743
CREATED:20190109T204019Z
LAST-MODIFIED:20190109T204403Z
UID:5790-1547888400-1547910000@keeplouisianabeautiful.org
SUMMARY:Environmental Education Workshop in New Roads
DESCRIPTION:Keep Louisiana Beautiful will hold an environmental education teacher training workshop in New Roads on Saturday\, January 19th.
URL:https://keeplouisianabeautiful.org/event/environmental-education-workshop-in-new-roads/
ATTACH;FMTTYPE=image/jpeg:https://keeplouisianabeautiful.org/wp-content/uploads/2015/09/Kayak2.jpg
END:VEVENT
BEGIN:VEVENT
DTSTART;TZID=America/Chicago:20190119T090000
DTEND;TZID=America/Chicago:20190119T120000
DTSTAMP:20260423T235743
CREATED:20190109T205214Z
LAST-MODIFIED:20190109T205330Z
UID:5796-1547888400-1547899200@keeplouisianabeautiful.org
SUMMARY:Arbor Day Tree Giveaway
DESCRIPTION:Keep Covington Beautiful will hold its annual Arbor Day Tree Giveaway at the Covington Farmers Market. Seedlings of several native varieties will be available.
URL:https://keeplouisianabeautiful.org/event/arbor-day-tree-giveaway/
ATTACH;FMTTYPE=image/jpeg:https://keeplouisianabeautiful.org/wp-content/uploads/2018/01/kids-tree-planting-1.jpg
END:VEVENT
BEGIN:VEVENT
DTSTART;TZID=America/Chicago:20190108T090000
DTEND;TZID=America/Chicago:20190108T120000
DTSTAMP:20260423T235743
CREATED:20180723T203242Z
LAST-MODIFIED:20180723T203431Z
UID:5019-1546938000-1546948800@keeplouisianabeautiful.org
SUMMARY:January Board Meeting
DESCRIPTION:The board of Keep Louisiana Beautiful will hold a board meeting at 2000 Quail Drive in Baton Rouge. Board meetings are free and open to the public.
URL:https://keeplouisianabeautiful.org/event/january-board-meeting/
ATTACH;FMTTYPE=image/jpeg:https://keeplouisianabeautiful.org/wp-content/uploads/2018/06/jp-valery-391642-unsplash.jpg
END:VEVENT
BEGIN:VEVENT
DTSTART;VALUE=DATE:20181225
DTEND;VALUE=DATE:20181227
DTSTAMP:20260423T235743
CREATED:20171130T200754Z
LAST-MODIFIED:20181119T182506Z
UID:4282-1545696000-1545868799@keeplouisianabeautiful.org
SUMMARY:Merry Christmas
DESCRIPTION:Merry Christmas to all of our partners\, volunteers\, and friends. KLB offices will be closed Dec. 25-26.
URL:https://keeplouisianabeautiful.org/event/happy-holidays/
ATTACH;FMTTYPE=image/jpeg:https://keeplouisianabeautiful.org/wp-content/uploads/2017/11/jez-timms-46810-1.jpg
END:VEVENT
BEGIN:VEVENT
DTSTART;VALUE=DATE:20181203
DTEND;VALUE=DATE:20181204
DTSTAMP:20260423T235743
CREATED:20181119T183058Z
LAST-MODIFIED:20181119T183058Z
UID:5736-1543795200-1543881599@keeplouisianabeautiful.org
SUMMARY:Reports Due
DESCRIPTION:The final report is due for all 2018 Trash Receptacle Mini Grant recipients\, and a mid-year report is due for all 2018 Healthy Communities Grant recipients.
URL:https://keeplouisianabeautiful.org/event/reports-due/
ATTACH;FMTTYPE=image/jpeg:https://keeplouisianabeautiful.org/wp-content/uploads/2018/11/andrew-neel-308138-unsplash.jpg
END:VEVENT
BEGIN:VEVENT
DTSTART;VALUE=DATE:20181123
DTEND;VALUE=DATE:20181125
DTSTAMP:20260423T235743
CREATED:20181119T180820Z
LAST-MODIFIED:20181119T181827Z
UID:5722-1542931200-1543103999@keeplouisianabeautiful.org
SUMMARY:Happy Thanksgiving!
DESCRIPTION:Keep Louisiana Beautiful wishes you and your family a wonderful holiday. Our offices will be closed Nov.23-24.
URL:https://keeplouisianabeautiful.org/event/happy-thanksgiving/
ATTACH;FMTTYPE=image/jpeg:https://keeplouisianabeautiful.org/wp-content/uploads/2018/11/pro-church-media-441073-unsplash-1.jpg
END:VEVENT
BEGIN:VEVENT
DTSTART;TZID=America/Chicago:20181117T080000
DTEND;TZID=America/Chicago:20181117T120000
DTSTAMP:20260423T235743
CREATED:20180503T162517Z
LAST-MODIFIED:20181011T213115Z
UID:4868-1542441600-1542456000@keeplouisianabeautiful.org
SUMMARY:St. Tammany Parish Household Hazardous Waste Day
DESCRIPTION:Bring your household hazardous waste to Fritchie Park in Slidell.
URL:https://keeplouisianabeautiful.org/event/st-tammany-parish-household-hazardous-waste-day/
ATTACH;FMTTYPE=image/jpeg:https://keeplouisianabeautiful.org/wp-content/uploads/2018/04/household-hazardous-waste.jpg
END:VEVENT
BEGIN:VEVENT
DTSTART;VALUE=DATE:20181115
DTEND;VALUE=DATE:20181116
DTSTAMP:20260423T235743
CREATED:20171006T183120Z
LAST-MODIFIED:20181004T205019Z
UID:4065-1542240000-1542326399@keeplouisianabeautiful.org
SUMMARY:
DESCRIPTION:America Recycles Day\, a program of Keep America Beautiful\, is a nationally recognized day dedicated to promoting and celebrating recycling in the United States. Every year on or around November 15 (America Recycles Day) event organizers like you\, educate neighbors\, friends and colleagues through thousands of events.\n\nWant to organize an event? Find out more here. 
URL:https://keeplouisianabeautiful.org/event/america-recycles-day/
ATTACH;FMTTYPE=image/jpeg:https://keeplouisianabeautiful.org/wp-content/uploads/2017/10/Web-Banner-300-x-2502013.jpg
END:VEVENT
BEGIN:VEVENT
DTSTART;TZID=America/Chicago:20181113T090000
DTEND;TZID=America/Chicago:20181113T120000
DTSTAMP:20260423T235743
CREATED:20180723T202215Z
LAST-MODIFIED:20180723T202351Z
UID:5016-1542099600-1542110400@keeplouisianabeautiful.org
SUMMARY:November Board Meeting
DESCRIPTION:Keep Louisiana Beautiful will hold a board meeting at 2000 Quail Drive in Baton Rouge. Board meetings are free and open to the public.
URL:https://keeplouisianabeautiful.org/event/november-board-meeting/
ATTACH;FMTTYPE=image/jpeg:https://keeplouisianabeautiful.org/wp-content/uploads/2015/09/DSC_1604.jpg
END:VEVENT
BEGIN:VEVENT
DTSTART;TZID=America/Chicago:20180926T180000
DTEND;TZID=America/Chicago:20180926T210000
DTSTAMP:20260423T235743
CREATED:20180706T153025Z
LAST-MODIFIED:20180706T153351Z
UID:4986-1537984800-1537995600@keeplouisianabeautiful.org
SUMMARY:Everyday Hero Awards Banquet
DESCRIPTION:Keep Louisiana Beautiful will recognize those individuals that go the extra mile to keep our communities clean\, beautiful\, and litter-free.
URL:https://keeplouisianabeautiful.org/event/everyday-hero-awards-banquet/
ATTACH;FMTTYPE=image/jpeg:https://keeplouisianabeautiful.org/wp-content/uploads/2017/06/kelly-jean-189004.jpg
END:VEVENT
BEGIN:VEVENT
DTSTART;VALUE=DATE:20180926
DTEND;VALUE=DATE:20180928
DTSTAMP:20260423T235743
CREATED:20180706T151534Z
LAST-MODIFIED:20180706T151534Z
UID:4982-1537920000-1538092799@keeplouisianabeautiful.org
SUMMARY:State Conference
DESCRIPTION:Join Keep Louisiana Beautiful at our annual two-day state conference in Baton Rouge and learn how you can make your community a greener\, cleaner place to live.
URL:https://keeplouisianabeautiful.org/event/state-conference/
ATTACH;FMTTYPE=image/jpeg:https://keeplouisianabeautiful.org/wp-content/uploads/2018/07/capitol-small.jpg
END:VEVENT
BEGIN:VEVENT
DTSTART;VALUE=DATE:20180915
DTEND;VALUE=DATE:20180916
DTSTAMP:20260423T235743
CREATED:20180831T213918Z
LAST-MODIFIED:20180831T215124Z
UID:5380-1536969600-1537055999@keeplouisianabeautiful.org
SUMMARY:Beach Sweep
DESCRIPTION:For 30 years\, this day has been observed as as international waterway cleanup day by the Ocean Conservancy. Get involved in local events near you.
URL:https://keeplouisianabeautiful.org/event/beach-sweep/
ATTACH;FMTTYPE=image/jpeg:https://keeplouisianabeautiful.org/wp-content/uploads/2018/06/hal-gatewood-263696-unsplash.jpg
END:VEVENT
BEGIN:VEVENT
DTSTART;TZID=America/Chicago:20180904T090000
DTEND;TZID=America/Chicago:20180904T120000
DTSTAMP:20260423T235743
CREATED:20180723T201804Z
LAST-MODIFIED:20180723T202812Z
UID:5014-1536051600-1536062400@keeplouisianabeautiful.org
SUMMARY:September Board Meeting
DESCRIPTION:Keep Louisiana Beautiful will hold a board meeting at 2000 Quail Drive in Baton Rouge. Board meetings are free and open to the public.
URL:https://keeplouisianabeautiful.org/event/september-board-meeting/
ATTACH;FMTTYPE=image/jpeg:https://keeplouisianabeautiful.org/wp-content/uploads/2015/09/jamie-street-100013.jpg
END:VEVENT
BEGIN:VEVENT
DTSTART;VALUE=DATE:20180801
DTEND;VALUE=DATE:20180802
DTSTAMP:20260423T235743
CREATED:20180706T155643Z
LAST-MODIFIED:20180706T155643Z
UID:4996-1533081600-1533167999@keeplouisianabeautiful.org
SUMMARY:Affiliate Reporting
DESCRIPTION:Keep Louisiana Beautiful affiliates should submit their annual impact report and KAB year-end report through the Affiliate Resource Center.
URL:https://keeplouisianabeautiful.org/event/affiliate-reporting/
ATTACH;FMTTYPE=image/jpeg:https://keeplouisianabeautiful.org/wp-content/uploads/2018/07/andrew-neel-308138-unsplash.jpg
END:VEVENT
BEGIN:VEVENT
DTSTART;TZID=America/Chicago:20180724T123000
DTEND;TZID=America/Chicago:20180724T143000
DTSTAMP:20260423T235743
CREATED:20180723T195904Z
LAST-MODIFIED:20180723T195904Z
UID:5010-1532435400-1532442600@keeplouisianabeautiful.org
SUMMARY:Board Meeting and Annual Luncheon
DESCRIPTION:Keep Louisiana Board members will meet for an annual luncheon and board meeting. The meeting will take place at Juban’s Baton Rouge\, 3739 Baton Rouge.
URL:https://keeplouisianabeautiful.org/event/board-meeting-and-annual-luncheon/
ATTACH;FMTTYPE=image/jpeg:https://keeplouisianabeautiful.org/wp-content/uploads/2018/07/schicka-307-unsplash.jpg
END:VEVENT
BEGIN:VEVENT
DTSTART;VALUE=DATE:20180701
DTEND;VALUE=DATE:20180801
DTSTAMP:20260423T235743
CREATED:20180706T155052Z
LAST-MODIFIED:20180706T155052Z
UID:4991-1530403200-1533081599@keeplouisianabeautiful.org
SUMMARY:Plastic-Free July
DESCRIPTION:Plastic Free July is a global movement that started in 2011 to reduce plastic consumption and waste. Can you refuse plastic all month?
URL:https://keeplouisianabeautiful.org/event/plastic-free-july/
ATTACH;FMTTYPE=image/jpeg:https://keeplouisianabeautiful.org/wp-content/uploads/2018/07/danielle-macinnes-222434-unsplash.jpg
END:VEVENT
BEGIN:VEVENT
DTSTART;TZID=America/Chicago:20180621T090000
DTEND;TZID=America/Chicago:20180621T150000
DTSTAMP:20260423T235743
CREATED:20180606T192328Z
LAST-MODIFIED:20180606T192352Z
UID:4931-1529571600-1529593200@keeplouisianabeautiful.org
SUMMARY:St. James Parish Regional Meeting
DESCRIPTION:An affiliate meeting will be held to provide training and resources to Keep America Beautiful affiliates located in this region.
URL:https://keeplouisianabeautiful.org/event/st-james-parish-regional-meeting/
ATTACH;FMTTYPE=image/jpeg:https://keeplouisianabeautiful.org/wp-content/uploads/2018/06/ryan-kosmides-606429-unsplash.jpg
END:VEVENT
BEGIN:VEVENT
DTSTART;TZID=America/Chicago:20180619T090000
DTEND;TZID=America/Chicago:20180619T150000
DTSTAMP:20260423T235743
CREATED:20180606T191800Z
LAST-MODIFIED:20180606T191800Z
UID:4927-1529398800-1529420400@keeplouisianabeautiful.org
SUMMARY:St. Tammany Parish Regional Meeting
DESCRIPTION:An affiliate meeting will be held to provide training and resources to Keep America Beautiful affiliates located in this region.
URL:https://keeplouisianabeautiful.org/event/st-tammany-parish-regional-meeting/
ATTACH;FMTTYPE=image/jpeg:https://keeplouisianabeautiful.org/wp-content/uploads/2018/06/mandeville.jpg
END:VEVENT
BEGIN:VEVENT
DTSTART;TZID=America/Chicago:20180613T090000
DTEND;TZID=America/Chicago:20180613T150000
DTSTAMP:20260423T235743
CREATED:20180606T191523Z
LAST-MODIFIED:20180606T191523Z
UID:4924-1528880400-1528902000@keeplouisianabeautiful.org
SUMMARY:St. Martin Parish Regional Meeting
DESCRIPTION:An affiliate meeting will be held to provide training and resources to Keep America Beautiful affiliates located in this region.
URL:https://keeplouisianabeautiful.org/event/st-martin-parish-regional-meeting/
ATTACH;FMTTYPE=image/jpeg:https://keeplouisianabeautiful.org/wp-content/uploads/2018/06/daniela-turcanu-680615-unsplash.jpg
END:VEVENT
BEGIN:VEVENT
DTSTART;TZID=America/Chicago:20180612T090000
DTEND;TZID=America/Chicago:20180612T150000
DTSTAMP:20260423T235743
CREATED:20180606T191038Z
LAST-MODIFIED:20180606T191135Z
UID:4920-1528794000-1528815600@keeplouisianabeautiful.org
SUMMARY:Lincoln Parish Regional Meeting
DESCRIPTION:A regional affiliate meeting will be held to provide training and resources to Keep America Beautiful affiliates located in this region.
URL:https://keeplouisianabeautiful.org/event/lincoln-parish-regional-meeting/
ATTACH;FMTTYPE=image/jpeg:https://keeplouisianabeautiful.org/wp-content/uploads/2018/06/IMG_1626.jpg
END:VEVENT
BEGIN:VEVENT
DTSTART;TZID=America/Chicago:20180526T080000
DTEND;TZID=America/Chicago:20180526T130000
DTSTAMP:20260423T235743
CREATED:20180510T203357Z
LAST-MODIFIED:20180510T203624Z
UID:4873-1527321600-1527339600@keeplouisianabeautiful.org
SUMMARY:Bayou Teche Spring Clean
DESCRIPTION:The T.E.C.H.E. Project\, Keep St. Martin Beautiful\, and Project Front Yard are hosting a litter cleanup in Magnolia Park. \nVolunteers will remove debris from the Bayou Teche (by way of canoe)\, through the park grounds\, and in the abutting subdivision “Durand Subdivision.” There will be music\, drinks\, and lunch provided to the volunteers.
URL:https://keeplouisianabeautiful.org/event/bayou-teche-spring-clean/
ATTACH;FMTTYPE=image/jpeg:https://keeplouisianabeautiful.org/wp-content/uploads/2018/05/Spring-clean5.26.2018.jpg
END:VEVENT
BEGIN:VEVENT
DTSTART;TZID=America/Chicago:20180505T080000
DTEND;TZID=America/Chicago:20180505T170000
DTSTAMP:20260423T235743
CREATED:20180424T152120Z
LAST-MODIFIED:20180424T152355Z
UID:4857-1525507200-1525539600@keeplouisianabeautiful.org
SUMMARY:Hammond Household Hazardous Waste Day
DESCRIPTION:Hammond’s Household Hazardous Waste  Recycling Day will be held at Zemurray Park\, 406 S. Oak Street.
URL:https://keeplouisianabeautiful.org/event/hammond-household-hazardous-waste-day/
ATTACH;FMTTYPE=image/jpeg:https://keeplouisianabeautiful.org/wp-content/uploads/2018/04/household-hazardous-waste.jpg
END:VEVENT
BEGIN:VEVENT
DTSTART;TZID=America/Chicago:20180428T083000
DTEND;TZID=America/Chicago:20180428T120000
DTSTAMP:20260423T235743
CREATED:20180425T182443Z
LAST-MODIFIED:20180425T184100Z
UID:4865-1524904200-1524916800@keeplouisianabeautiful.org
SUMMARY:Great American Cleanup - St. Mary
DESCRIPTION:Keep St. Mary Beautiful and leaders from around St. Mary Parish will pick up trash and debris along the roadside leading to and from Albania Plantation\, 21200 La. 182 in Jeanerette.
URL:https://keeplouisianabeautiful.org/event/great-american-cleanup-st-mary/
ATTACH;FMTTYPE=image/jpeg:https://keeplouisianabeautiful.org/wp-content/uploads/2015/12/louisiana-litter-prevention-grant.jpg
END:VEVENT
BEGIN:VEVENT
DTSTART;TZID=America/Chicago:20180423T100000
DTEND;TZID=America/Chicago:20180423T150000
DTSTAMP:20260423T235743
CREATED:20180215T220852Z
LAST-MODIFIED:20180416T200118Z
UID:4594-1524477600-1524495600@keeplouisianabeautiful.org
SUMMARY:Legislative Day
DESCRIPTION:Keep Louisiana Beautiful will be at the State Capitol Rotunda from 10am until 3pm to share the importance of our work with Louisiana legislators.
URL:https://keeplouisianabeautiful.org/event/legislative-day/
ATTACH;FMTTYPE=image/jpeg:https://keeplouisianabeautiful.org/wp-content/uploads/2015/09/2014_Louisiana_State_Capitol-1.jpg
END:VEVENT
BEGIN:VEVENT
DTSTART;VALUE=DATE:20180422
DTEND;VALUE=DATE:20180423
DTSTAMP:20260423T235743
CREATED:20180420T185709Z
LAST-MODIFIED:20180420T190650Z
UID:4847-1524355200-1524441599@keeplouisianabeautiful.org
SUMMARY:Earth Day
DESCRIPTION:Earth Day is an opportunity to reflect on our actions and how they impact the world we live in. Renew your commitment to produce less waste and pick up more litter.
URL:https://keeplouisianabeautiful.org/event/earth-day/
ATTACH;FMTTYPE=image/jpeg:https://keeplouisianabeautiful.org/wp-content/uploads/2018/04/mother-child-walking.jpg
END:VEVENT
BEGIN:VEVENT
DTSTART;TZID=America/Chicago:20180414T080000
DTEND;TZID=America/Chicago:20180414T120000
DTSTAMP:20260423T235743
CREATED:20180305T164258Z
LAST-MODIFIED:20180305T164258Z
UID:4603-1523692800-1523707200@keeplouisianabeautiful.org
SUMMARY:Great American Cleanup: Shreveport
DESCRIPTION:Shreveport Green is looking for volunteers for the 28th annual Great American Cleanup happening on April 14 from 8 a.m to noon. \nRegistration is open until March 31. The first 600 volunteers to sign up will receive a Great American Cleanup t-shirt (while supplies last). On the day of the cleanup there will be food\, prizes\, and informational booths. Groups interested in participating should form a team of five or more people and register as a team. \nFor more information\, contact Casaundra Calloway at (318) 219-1888\, ext. 20\, or  by emailing ccalloway@shreveportgreen.org.
URL:https://keeplouisianabeautiful.org/event/great-american-cleanup-shreveport/
ATTACH;FMTTYPE=image/jpeg:https://keeplouisianabeautiful.org/wp-content/uploads/2016/01/aDSC02341.jpg
END:VEVENT
BEGIN:VEVENT
DTSTART;VALUE=DATE:20180323
DTEND;VALUE=DATE:20180324
DTSTAMP:20260423T235743
CREATED:20171130T203552Z
LAST-MODIFIED:20180108T184324Z
UID:4292-1521763200-1521849599@keeplouisianabeautiful.org
SUMMARY:
DESCRIPTION:Leaders Against Litter is an annual event that showcases our community leaders and elected officials “leading the way” in our charge against litter.
URL:https://keeplouisianabeautiful.org/event/leaders-against-litter/
ATTACH;FMTTYPE=image/jpeg:https://keeplouisianabeautiful.org/wp-content/uploads/2016/03/LAL-COLOR-BANNER-ONLY-CMYK.jpg
END:VEVENT
BEGIN:VEVENT
DTSTART;VALUE=DATE:20180320
DTEND;VALUE=DATE:20180601
DTSTAMP:20260423T235743
CREATED:20180305T164827Z
LAST-MODIFIED:20180305T164827Z
UID:4605-1521504000-1527811199@keeplouisianabeautiful.org
SUMMARY:Great American Cleanup 2018
DESCRIPTION:The Great American Cleanup kicks off nation-wide on the first day of spring\, March 20\, 2018. So\, grab some friends and get out there to #cleanYOURblock. Learn more at https://www.kab.org/great-american-cleanup/great-american-cleanup-2018.
URL:https://keeplouisianabeautiful.org/event/great-american-cleanup-2018/
ATTACH;FMTTYPE=image/jpeg:https://keeplouisianabeautiful.org/wp-content/uploads/2015/09/DSC_1607-1.jpg
END:VEVENT
BEGIN:VEVENT
DTSTART;TZID=America/Chicago:20180317T090000
DTEND;TZID=America/Chicago:20180317T130000
DTSTAMP:20260423T235743
CREATED:20180309T195032Z
LAST-MODIFIED:20180309T195032Z
UID:4609-1521277200-1521291600@keeplouisianabeautiful.org
SUMMARY:Monroe Household Hazardous Waste Day
DESCRIPTION:Ouachita Green is kicking off the 2018 Great American Cleanup by hosting a Household Hazardous Waste Day  at the Ike Hamilton Expo Center in West Monroe from 9 a.m. to 1 p.m.
URL:https://keeplouisianabeautiful.org/event/monroe-household-hazardous-waste-day/
ATTACH;FMTTYPE=image/jpeg:https://keeplouisianabeautiful.org/wp-content/uploads/2017/03/paints.jpeg
END:VEVENT
BEGIN:VEVENT
DTSTART;TZID=America/Chicago:20180313T100000
DTEND;TZID=America/Chicago:20180313T120000
DTSTAMP:20260423T235743
CREATED:20170525T193928Z
LAST-MODIFIED:20170525T193928Z
UID:3708-1520935200-1520942400@keeplouisianabeautiful.org
SUMMARY:KLB Board of Directors March Meeting
DESCRIPTION:The Keep Louisiana Beautiful Board of Directors will hold a meeting on this date at the Louisiana Department of Wildlife and Fisheries\, located at 2000 Quail Drive in Baton Rouge. This meeting is free and open to the public.
URL:https://keeplouisianabeautiful.org/event/klb-board-of-directors-march-meeting/
ATTACH;FMTTYPE=image/jpeg:https://keeplouisianabeautiful.org/wp-content/uploads/2015/09/andrea-reiman-251037.jpg
END:VEVENT
END:VCALENDAR